Workbook

Sheet Fomulario inicial
A1: FORMULARIO DE INFORMACIÓN PREVIA CERTIFICACIÓN DE SISTEMAS DE GESTION
A2: Form: FAUDC242 | D2: Rev: 23 | H2: 2026.10.20
A3: FORMULARIO DE INFORMACIÓN PREVIA CERTIFICACIÓN
A4: La información consignada en el presente formulario es confidencial y nos permitirá presentarle una propuesta acorde con las necesidades de su organización. La oportunidad y exactitud en la información permitirá planificar las actividades necesarias para el otorgamiento del Certificado y obtener mejores resultados. La información consignada en este documento será gestionada y protegida conforme a los lineamientos y disposiciones aplicables en materia de confidencialidad y tratamiento de datos.
A6: INFORMACIÓN GENERAL DE LA EMPRESA
A7: DATOS DE LA EMPRESA
A8: Razón Social sede principal:
A9: Dirección de la sede principal: | H9: Tipo de identificación: | I9: Escoja elemento | J9: Número de documento
A10: Ciudad de la sede principal: | H10: País | K10: Teléfono:
A11: Sitio web: | H11: Correo general
A12: Razones sociales en situación de control (Añadir filas en caso de que se requieran mas razones sociales en situación de control)
A13: Razón social en situación de control | H13: Nit
A14: Razón social en situación de control 1 | H14: Nit
A15: Razón social en situación de control 2 | H15: Nit
A16: Razón social en situación de control 3 | H16: Nit
A17: Razón social en situación de control 4 | H17: Nit
A18: Razón social en situación de control 5 | H18: Nit
A19: DATOS DE REPRESENTANTES DE LA ORGANIZACIÓN
A20: Nombre del Representante Legal: | H20: Cargo:
A21: Correo electrónico: | H21: Celular:
A22: Nombre del encargado del sistema de gestión: | H22: Cargo:
A23: Correo electrónico: | H23: Celular:
A24: DETALLE DEL SERVICIO
A25: TIPO DE SOLICITUD
A26: Servicio solicitado | H26: Escoja elemento
H27: Escoja elemento
H28: Escoja elemento
A29: EN CASO DE SOLICITAR Otorgamiento/Seguimiento/ Renovación o ampliación de alcance EN LA CELDA H24 REGISTRAR LA INFORMACIÓN A CONTINUACIÓN
A30: Etapa a Desarrollar | F30: Norma a solicitar | K30: Requiere ampliar o reducir el alcance (No aplica para certificación inicial)
A31: Escoja etapa a desarrollar | F31: Escoja norma | K31: Escoja elemento
A32: Escoja etapa a desarrollar | F32: Escoja norma | K32: Escoja elemento
A33: Escoja etapa a desarrollar | F33: Escoja norma | K33: Escoja elemento
A34: Escoja etapa a desarrollar | F34: Escoja norma | K34: Escoja elemento
A35: Escoja etapa a desarrollar | F35: Escoja norma | K35: Escoja elemento
A36: Escoja etapa a desarrollar | F36: Escoja norma | K36: Escoja elemento
A37: EN CASO DE SOLICITAR TRANSFERENCIA EN LA CELDA H24 REGISTRAR LA SIGUIENTE INFORMACIÓN
A38: Etapa a Desarrollar | D38: Norma a transferir | F38: Fecha de vencimiento del certificado | I38: Describa el organismo de certificación acreditado con reconocimiento de MLA de IAF (Adjuntar certificado) | K38: Requiere ampliar o reducir el alcance
D39: Escoja norma | K39: Escoja elemento
D40: Escoja norma | K40: Escoja elemento
D41: Escoja norma | K41: Escoja elemento
...

Sheet ISO 45001
C2: ISO 45001:2018
C3: INDICADORES DE SINIESTRALIDAD DEL SISTEMA DE GESTIÓN DE SEGURIDAD Y SALUD EN EL TRABAJO
C4: Registre el número de accidentes, enfermedades calificadas de origen laboral y personal del año inmediatamente anterior
C5: Numero de accidentes de trabajo
C6: Número de enfermedades calificadas de origen laboral
C7: Numero de accidentes que generaron fatalidad
C8: Numero de personal
C9: TASA DE AT | G9: =+IF(G5="","",(G5/G8)*100)
C10: TASA DE EL | G10: =+IF(G6="","",(G6/G8)*100000)
C11: REQUISITOS ESPECIFICOS DE SEGURIDAD Y SALUD EN TRABAJO
C12: Indicar los requisitos legales de Seguridad y Salud en el Trabajo que aplica a su Empresa:
C14: Describa los peligros clave y riesgos de sus procesos y operaciones:
C16: Marque si en los lugares de trabajo se manejan sustancias peligrosas en cantidades que representen un riesgo de accidentes industriales mayores (incendios, explosión y/o derrames, entre otros). | H16: Elija opción
C17: Especifique cuales sustancias
C18: La organización está enfrentando procesos legales relacionados con SST: | H18: Elija opción
B19: Dar clic para volver al formulario inicial

Sheet ISO 14001
C2: ISO 14001:2015
C3: REQUISITOS ESPECIFICOS DE AMBIENTAL
C4: Indicar los principales requisitos legales ambientales a los que está sometida la Empresa, incluyendo otros compromisos ambientales adquiridos con las autoridades:
C6: Describa los aspectos e impactos ambientales significativos de sus procesos y operaciones:
C8: Dar clic para volver al formulario inicial

Sheet ISO 9001
C2: ISO 9001:2015
C3: REQUISITOS ESPECIFICOS DE CALIDAD
C4: Indicar los requisitos de la norma ISO 9001 que no son aplicables con su respectiva justificación, para el alcance del Sistema de Gestión de Calidad.
C5: Requisito de la norma no aplicable | H5: Justificación de no aplicabilidad
C7: Indique los requisitos legales y normativos a los cuales están sometidos los productos y servicios (materiales o servicios) correspondientes a las actividades incluidas en alcance a certificar.
C10: Dar clic aquí para regresar al formulario inicial

Sheet ISO 39001
C2: ISO 39001:2012
C3: REQUISITOS ESPECIFICOS DE SEGURIDAD VIAL
C4: Indicar los requisitos de la norma ISO 39001 que no son aplicables con su respectiva justificación, para el alcance del Sistema de Gestión de Seguridad vial
C5: Requisito de la norma no aplicable | F5: Justificación de no aplicabilidad
C7: La organización está enfrentando procesos legales relacionados con seguridad vial: | G7: Elija opción
C8: Descripción de rutas
C9: Tipo de transporte (De acuerdo con el alcance solicitado) | D9: N. de ruta | E9: Tipo de vehículo (De acuerdo con el alcance solicitado) | F9: Cantidad de vehículos | G9: Cantidad de conductores por tipo de vehículo (Incluyendo contratistas)
B18: Dar clic aquí para regresar al formulario inicial

Sheet ISO 18788
C2: ISO 18788:2015
C3: REQUISITOS ESPECIFICOS DE OPEREACIONES DE SEGURIDAD PRIVADA
C4: Indicar los requisitos de la norma ISO 18788 que no son aplicables con su respectiva justificación, para el alcance del Sistema de Gestión de Operaciones de Seguridad Privada.
C5: Requisito de la norma no aplicable | D5: Justificación de no aplicabilidad
C7: Información de riesgos
C8: ASPECTOS | D8: AMENAZAS / VULNERABILIDADES | G8: NIVEL DE RIESGO ASOCIADO
C9: Describa las amenazas (tipo, naturaleza y consecuencia) y vulnerabilidades con el nivel de riesgo significativo con potencial de causar un evento indeseable con relación a los derechos humanos de la propia operación
C15: Describa las amenazas (tipo, naturaleza y consecuencia) y vulnerabilidades con el nivel de riesgo significativo con potencial de causar un evento indeseable con relación a los derechos humanos de la operación de la cadena de suministro y subcontratistas.
C21: Mencione las actividades / funciones / operaciones de la cadena de suministro y subcontratistas con las que cuentan actualmente
C23: La siguiente información será auditada en el proceso de auditoría por favor responda de acuerdo con la realidad
C24: ¿Tiene seguros para cubrir los riesgos y las responsabilidades asociadas que se deriven de sus operaciones y actividades? | D24: Elija opción
C25: ¿La cobertura de los seguros cubre hasta las actividades subcontratistas según corresponda? | D25: Elija opción
C26: ¿Ya tiene implementado SIPLAFT? | D26: Elija opción
C27: ¿Cuenta con redes de apoyo? | D27: Elija opción
C28: ¿Se aplica la detención de personas y su custodia? | D28: Elija opción
C29: ¿Tiene implementado algún Sistema de Gestión en Seguridad y Salud en el trabajo para todas las sedes? | D29: Elija opción
C30: ¿Cuenta con oficiales de cumplimiento? | D30: Elija opción
C31: ¿La cobertura de ejercicios y otros medios para someter a prueba la pertinencia y eficacia de los planes, procesos y procedimiento de su SGOS es para todas las sedes? | D31: Elija opción
B33: Dar clic aquí para regresar al formulario inicial

Sheet ISO 50001
B2: ISO 50001:2018
B3: REQUISITOS ESPECIFICOS PARA EL SISTEMA DE GESTIÓN DE LA ENERGÍA
B4: A continuación describa la cantidad de personal que tiene un impacto material en el desempeño energético y la eficacia del Sistema de gestión de energía, teniendo en cuenta las siguientes responsabilidades:
B5: Función o responsabilidad (Las personas no deben ser contadas dos veces y deben incluir personal permanente, a tiempo completo, temporal, tiempo parcial, contratistas o proveedores de servicios externos que afecten a la eficiencia energética o a la mejora de la misma.)
B6: Alta gerencia
B7: Equipo de gestión de la energía
B8: Personas responsables de las adquisiciones con el desempeño energético,
B9: Personas responsables de hacer cambios importantes que afectan el desempeño energético
B10: Personas responsables de desarrollar, aplicar o mantener mejoras del desempeño energético incluyendo, objetivos, metas energéticas y planes de acción
B11: Personas responsables de desarrollar y mantener los datos y análisis energéticos
B12: Personas responsables de la planificación, el funcionamiento y el mantenimiento de los procesos relacionados con los usos energéticos significativos, incluso durante las operaciones estacionales (por ejemplo, actividades de recolección, hoteles, etc.), según corresponda
B13: Personas responsables del diseño que afectan el desempeño energético
... B18: Nota 1. Cálculo del personal efectivo del SGEn: El número total de personal efectivo del Sistema de Gestión de la Energía (SGEn) se obtiene sumando a las siguientes personas o equipos: - Alta dirección. - Persona(s) responsable(s) de desarrollar y mantener los datos y análisis energéticos. - Equipo de gestión de la energía. - Persona(s) responsable(s) de los cambios importantes que afectan al desempeño energético. - Persona(s) responsable(s) del diseño que afecta(n) el desempeño energético. - Persona(s) responsable(s) del desarrollo, implementación o mantenimiento de las mejoras del desempeño energético. - Persona(s) responsable(s) de la planificación, operación y mantenimiento de los procesos relacionados con los USE (Usos Significativos de la Energía). Se deben incluir, si aplica, las personas utilizadas en operaciones estacionales o de temporada. - Persona(s) responsable(s) de las adquisiciones relacionadas con el desempeño energético. Nota 2. Tipos de energía: Se consideran fuentes como electricidad, combustibles fósiles (gas natural, productos derivados del petróleo), calor (vapor) y biomasa (carbón, caña de azúcar), entre otras. Los tipos de energía reportados deben corresponder a aquellos que representan el 80% del consumo total de energía de la organización cliente. Por lo tanto, no es obligatorio que equivalga al número total de tipos de energía que la organización utiliza en su operación cotidiana. Nota 3. Consumo anual de energía: Se deben indicar los consumos de energía estrictamente en TERAJULIOS. Todas las conversiones necesarias se deben realizar a partir de factores normalizados. Nota 4. Usos significativos de la energía (USE): Se refiere a la forma de aplicación de la energía dentro de la organización. Algunos ejemplos comunes son la transformación de materia prima, refrigeración, transporte, iluminación y procesos específicos, entre otros. Nota 5. Validación de personal: La cifra declarada en este apartado de la fila 5 a la 12 debe corresponder exactamente a la suma total del personal detallado en la Nota 1 por cada sede.
B19: Tipo de sitio (Añada filas en caso de necesitar y hale la formula) | C19: Ciudad | D19: Dirección | E19: Según el alcance a certificar relacione que parte del alcance se lleva a cabo en cada sitio | F19: Sitio Temporal (SI / NO) | G19: Número de personal efectivo de SGE | H19: Número de tipos de energía | I19: Consumo anual de energía (TJ) | J19: Número de usos significativos de la energía (USE) | K19: Mejora del desempeño en cada sitio (IDEn vs LBEN)
B20: =+'Fomulario inicial'!A97 -> Funcion central | C20: =IF('Fomulario inicial'!B97="","",'Fomulario inicial'!B97) | D20: =IF('Fomulario inicial'!C97="","",'Fomulario inicial'!C97) | E20: =IF('Fomulario inicial'!D97="","",'Fomulario inicial'!D97)
B21: =+'Fomulario inicial'!A98 -> Sitio 1 | C21: =IF('Fomulario inicial'!B98="","",'Fomulario inicial'!B98) | D21: =IF('Fomulario inicial'!C98="","",'Fomulario inicial'!C98) | E21: =IF('Fomulario inicial'!D98="","",'Fomulario inicial'!D98)
B22: =+'Fomulario inicial'!A99 -> Sitio 2 | C22: =IF('Fomulario inicial'!B99="","",'Fomulario inicial'!B99) | D22: =IF('Fomulario inicial'!C99="","",'Fomulario inicial'!C99) | E22: =IF('Fomulario inicial'!D99="","",'Fomulario inicial'!D99)
B23: =+'Fomulario inicial'!A100 -> Sitio 3 | C23: =IF('Fomulario inicial'!B100="","",'Fomulario inicial'!B100) | D23: =IF('Fomulario inicial'!C100="","",'Fomulario inicial'!C100) | E23: =IF('Fomulario inicial'!D100="","",'Fomulario inicial'!D100)
B24: =+'Fomulario inicial'!A101 -> Sitio 4 | C24: =IF('Fomulario inicial'!B101="","",'Fomulario inicial'!B101) | D24: =IF('Fomulario inicial'!C101="","",'Fomulario inicial'!C101) | E24: =IF('Fomulario inicial'!D101="","",'Fomulario inicial'!D101)
B25: =+'Fomulario inicial'!A102 -> Sitio 5 | C25: =IF('Fomulario inicial'!B102="","",'Fomulario inicial'!B102) | D25: =IF('Fomulario inicial'!C102="","",'Fomulario inicial'!C102) | E25: =IF('Fomulario inicial'!D102="","",'Fomulario inicial'!D102)
B26: =+'Fomulario inicial'!A103 -> Sitio 6 | C26: =IF('Fomulario inicial'!B103="","",'Fomulario inicial'!B103) | D26: =IF('Fomulario inicial'!C103="","",'Fomulario inicial'!C103) | E26: =IF('Fomulario inicial'!D103="","",'Fomulario inicial'!D103)
B27: =+'Fomulario inicial'!A104 -> Sitio 7 | C27: =IF('Fomulario inicial'!B104="","",'Fomulario inicial'!B104) | D27: =IF('Fomulario inicial'!C104="","",'Fomulario inicial'!C104) | E27: =IF('Fomulario inicial'!D104="","",'Fomulario inicial'!D104)
B28: =+'Fomulario inicial'!A105 -> Sitio 8 | C28: =IF('Fomulario inicial'!B105="","",'Fomulario inicial'!B105) | D28: =IF('Fomulario inicial'!C105="","",'Fomulario inicial'!C105) | E28: =IF('Fomulario inicial'!D105="","",'Fomulario inicial'!D105)
B29: =+'Fomulario inicial'!A106 -> Sitio 9 | C29: =IF('Fomulario inicial'!B106="","",'Fomulario inicial'!B106) | D29: =IF('Fomulario inicial'!C106="","",'Fomulario inicial'!C106) | E29: =IF('Fomulario inicial'!D106="","",'Fomulario inicial'!D106)
B30: =+'Fomulario inicial'!A107 -> Sitio 10 | C30: =IF('Fomulario inicial'!B107="","",'Fomulario inicial'!B107) | D30: =IF('Fomulario inicial'!C107="","",'Fomulario inicial'!C107) | E30: =IF('Fomulario inicial'!D107="","",'Fomulario inicial'!D107)
B31: =+'Fomulario inicial'!A108 -> Sitio 11 | C31: =IF('Fomulario inicial'!B108="","",'Fomulario inicial'!B108) | D31: =IF('Fomulario inicial'!C108="","",'Fomulario inicial'!C108) | E31: =IF('Fomulario inicial'!D108="","",'Fomulario inicial'!D108)
... B38: =+'Fomulario inicial'!A115 -> Sitio 18 | C38: =IF('Fomulario inicial'!B115="","",'Fomulario inicial'!B115) | D38: =IF('Fomulario inicial'!C115="","",'Fomulario inicial'!C115) | E38: =IF('Fomulario inicial'!D115="","",'Fomulario inicial'!D115)
B39: Describa los tipos de energía que representan el 80% del consumo total de la organización:
